
BEGIN:VCALENDAR
PRODID:-//Feedo Feed//NONSGML v1.0//EN
VERSION:2.0
CALSCALE:GREGORIAN
METHOD:PUBLISH
X-WR-CALNAME:Klangreise und Klangmeditation mit Michael
X-WR-CALDESC:Klangreise und Klangmeditation\nmit Michael\n&nbsp;\nKlang wurde schon immer als Teil alternativer Heilmethoden verwendet.\nDer westlich-rationale Mensch leidet oft unter Kopflastigkeit. Probleme werden gewälzt, Gedanken drehen um sich selbst und vieles mehr.\n&nbsp;\nKlang ist ein hilfreicher Weg um zur Ruhe und Entspannung zu gelangen.\nDie Klangschalen bilden einen Klangteppich, auf dem der Lauschende zur inneren Ruhe und Entspannung findet.\nMelden Sie sich gern unter 0174 9002782 oder Michael_Sanner@web.de an.\n\nKlang wurde schon immer als Teil alternativer Heilmethoden verwendet. Der westlich-rationale Mensch leidet oft unter Kopflastigkeit. Probleme werden gewälzt, Gedanken drehen um sich selbst und vieles mehr. Klang ist ein hilfreicher Weg um zur Ruhe und Entspannung zu gelangen.  Die Klangschalen bilden einen Klangteppich, auf dem der Lauschende zur inneren Ruhe und Entspannung findet.  Melden Sie sich gern unter 0174 9002782 oder Michael_Sanner@web.de an.
X-MS-OLK-FORCEINSPECTOROPEN:TRUE
BEGIN:VEVENT
DTSTAMP:20260423T154606Z
DTSTART:20260522T180000Z
DTEND:20260522T193000Z
TRANSP:TRANSPARENT
UID:12602026-05-22
SUMMARY:Klangreise und Klangmeditation mit Michael
DESCRIPTION:Klangreise und Klangmeditation\nmit Michael\n&nbsp;\nKlang wurde schon immer als Teil alternativer Heilmethoden verwendet.\nDer westlich-rationale Mensch leidet oft unter Kopflastigkeit. Probleme werden gewälzt, Gedanken drehen um sich selbst und vieles mehr.\n&nbsp;\nKlang ist ein hilfreicher Weg um zur Ruhe und Entspannung zu gelangen.\nDie Klangschalen bilden einen Klangteppich, auf dem der Lauschende zur inneren Ruhe und Entspannung findet.\nMelden Sie sich gern unter 0174 9002782 oder Michael_Sanner@web.de an.\n\nKlang wurde schon immer als Teil alternativer Heilmethoden verwendet. Der westlich-rationale Mensch leidet oft unter Kopflastigkeit. Probleme werden gewälzt, Gedanken drehen um sich selbst und vieles mehr. Klang ist ein hilfreicher Weg um zur Ruhe und Entspannung zu gelangen.  Die Klangschalen bilden einen Klangteppich, auf dem der Lauschende zur inneren Ruhe und Entspannung findet.  Melden Sie sich gern unter 0174 9002782 oder Michael_Sanner@web.de an.
URL:http://www.drachenzentrum.de/programm/klangreise-und-klangmeditation-mit-michael-11?format=html
CATEGORIES:Meditationen
GEO:51.1626774;13.471179699999993
LOCATION:DrachenZentrum
END:VEVENT
END:VCALENDAR